BEGIN:VCALENDAR
VERSION:2.0
PRODID:-//ExpressionEngine Easy iCalendar plugin//NONSGML v2.0.1//EN
X-WR-TIMEZONE:America/Chicago
X-WR-CALNAME:Upcoming Auctions
BEGIN:VEVENT
UID:150568
DTSTAMP:20251019T130000
DTSTART:20251019T130000
DTEND:20251102T150000
SUMMARY:Golf\, Fishing\, Outdoor Equipment\, & Sports Memorabilia
LOCATION:3900 S Broadway\, 2W\, Edmond\, OK 73013\, US
DESCRIPTION:DATE & TIME Auction Closes: Sunday\, November 2nd\, Beginning 
 @ 3:00pm LOCATION & DIRECTIONS Items are located at: Bray Au
 ctions\, 3900 S Broadway\, 2W\, Edmond\, OK 73013 SALE INFORMATI
 ON Inspection of items will be held by special appointment o
 nly. Bidders are required to create an account and input cre
 dit card information for authorization. All Purchases Must B
 e Paid For Before They Can Be Picked Up. Cash\, Checks\, and C
 redit / Debit Cards Will Be Accepted. (3% Convenience Fee on
  All Credit /Debit Card Purchases). A 10% Buyer's Premium Wi
 ll Be In Effect. All Sales Are Final. Non Paying Bidders wil
 l have their credit card on file charged up to the full amou
 nt of purchase and will be blocked from all future auctions.
  Removal of Items will be held by scheduled appointment on M
 onday\, November 3rd and Tuesday\, November 4th. Winning Bidde
 rs will be contacted to choose an appointment on Bray Auctio
 ns' scheduling system. For Questions\, Contact Bray Auctions 
 @ 405.888.5366
URL:https://www.bidbray.com/auctions/detail/bw150568
SEQUENCE:1
END:VEVENT
END:VCALENDAR