BEGIN:VCALENDAR
VERSION:2.0
PRODID:-//ExpressionEngine Easy iCalendar plugin//NONSGML v2.0.1//EN
X-WR-TIMEZONE:America/Chicago
X-WR-CALNAME:Upcoming Auctions
BEGIN:VEVENT
UID:150637
DTSTAMP:20251102T100000
DTSTART:20251102T100000
DTEND:20251116T140000
SUMMARY:Francis Tuttle Technology Restaurant & Culinary Equipment & 
 Supplies
LOCATION:12777 N Rockwell Ave\, Oklahoma City\, OK 73142\, US
DESCRIPTION:DATE & TIME Auction Closes: Sunday\, November 16th\, Beginning
  @ 2:00pm LOCATION & DIRECTIONS Items are located at: Franci
 s Tuttle\, 12777 N Rockwell Ave\, Oklahoma City\, OK 73142 SALE
  INFORMATION Inspection of items will be held by appointment
  only. Contact for appointment. Bidders are required to crea
 te an account and input credit card information for $100 Dep
 osit / Authorization. All Purchases Must Be Paid For Before 
 They Can Be Picked Up. Cash\, Checks\, Credit / Debit Cards\, a
 nd Wire Transfers Will Be Accepted. (3% Convenience Fee on A
 ll Credit /Debit Card Purchases). A 10% Buyer's Premium Will
  Be In Effect. All Sales are Final. Non Paying Bidders will 
 have their Credit Card Charged and will be blocked from futu
 re auctions. Removal of Items will be held by scheduled appo
 intment on Monday\, November 17th and Tuesday\, November 18th.
  Winning Bidders will be contacted to choose an appointment 
 on Bray Auctions' scheduling system.
URL:https://www.bidbray.com/auctions/detail/bw150637
SEQUENCE:1
END:VEVENT
END:VCALENDAR