BEGIN:VCALENDAR
VERSION:2.0
PRODID:-//ExpressionEngine Easy iCalendar plugin//NONSGML v2.0.1//EN
X-WR-TIMEZONE:America/Chicago
X-WR-CALNAME:Upcoming Auctions
BEGIN:VEVENT
UID:150815
DTSTAMP:20251022T180000
DTSTART:20251022T180000
DTEND:20251023T201500
SUMMARY:Taste of Western 2025
LOCATION:One Park Ave\, Oklahoma City\, OK 73102\, US
DESCRIPTION:Join us Thursday\, October 23rd from 6–9 PM at the historic
  Will Rogers Theatre for the 23rd annual Taste of Western 
 an evening celebrating the best of Western Avenue's restaura
 nts and wine scene. Enjoy unlimited bites from your favorite
  local restaurants\, sip curated selections of wine\, beer\, an
 d whiskey\, and soak in the music\, lively atmosphere\, and vib
 rant crowd. With a silent and live auction featuring local g
 oods and experiences\, it's more than just dinner\, it's a nig
 ht to remember. ✨ General Admission: $79 – includes entr
 y and a commemorative tasting glass ✨ VIP: $118 – includ
 es early entry at 5:30 PM\, exclusive tastings\, and premium l
 ounge access This event supports the beautification and prom
 otion of Oklahoma City's Western Avenue District. Come hungr
 y. Leave inspired.
URL:https://www.bidbray.com/auctions/detail/bw150815
SEQUENCE:1
END:VEVENT
END:VCALENDAR