BEGIN:VCALENDAR
VERSION:2.0
PRODID:-//ExpressionEngine Easy iCalendar plugin//NONSGML v2.0.1//EN
X-WR-TIMEZONE:America/Chicago
X-WR-CALNAME:Upcoming Auctions
BEGIN:VEVENT
UID:151094
DTSTAMP:20251027T120000
DTSTART:20251027T120000
DTEND:20251030T180000
SUMMARY:Farrington Towing Impound Auction
LOCATION:3307 NE 10th St\, Oklahoma City\, OK 73117\, US
DESCRIPTION:TERMS & CONDITIONS: Â  All vehicles are sold AS-IS\; it is th
 e buyer's responsibility to inspect and verify information r
 egarding vehicles\; Farrington TowingÂ and Bray Auctions have
  provided information to the best of their ability\, but no g
 uarantees or warranties are expressed nor implied. Highest B
 idder Wins. The online bidding platform will close at a rate
  of 1 item per minute. If a bid is made within the final 3 m
 inutes of any item\, the timer on THAT item will be reset to 
 3 minutes. Back up bidders and others will have the opportun
 ity to bid again on that item. An item does not close or sel
 l until the final 3 minutes elapse with no further bids. All
  sales are final - No refunds. It is the bidder's responsibi
 lity for due diligence on all items purchased. Any bidder th
 at wins an item and does not pay will have their bidding cre
 dentials revoked\, will have their card charged\, and will NEV
 ER be permitted to bid again.Â Farrington Towing will not se
 ll a vehicle to the previous registered owner whether known 
 or not\, at the time of bidding. All items must be paid for b
 efore they are removed. ALL items must be paid for and remov
 ed on Monday through Wednesday following the auction close\, 
 from 8:00am to 4:00pm. No pick ups after 4:00pm or on weeken
 ds. Payments will be made atÂ Farrington Towing byÂ cash or 
 debit card only.Â No checks or credit cards. A $50 charge wi
 ll apply to vehicles requiring Title 42 paperwork. Farringto
 n Towing follows title 42 regulations for all vehicles.Â Far
 rington is at the mercy of the Oklahoma Tax Commission. Unti
 l Title 42 paperwork is approved\, you are not the registered
  owner. If you choose to drive a vehicle purchased fromÂ Far
 rington Towing\, you are doing so atÂ your own risk.Â Farring
 ton TowingÂ does notÂ offer temporary tags. If you choose to
  spend money making repairs of any kind before the paperwork
  is approved\, you are doing so at your own risk. All paperwo
 rk will be done in the bidders nameÂ only. No exceptions. Th
 ere is no expected timeline on getting paperwork andÂ Farrin
 gton Towing makes no guarantees. Farrington Towing does not 
 guarantee any lien releases for vehicles purchased from auct
 ion. Due to insurance regulations\, all vehicles will leave t
 he lot driven\,Â trailered\, or towed by a wrecker.Â No except
 ions. No repairs to any vehicle shall be made while onÂ the 
 Farrington lot\; front or back. No vehicles will be moved byÂ
  Farrington staff. If you need it moved\, you will be require
 d to pay a hook-up fee. NOTICE - Any vehicles not picked up 
 and paid for by the Friday following the auction will be sub
 ject to a $25 per day storage fee. If you have questions abo
 ut vehicles\, please callÂ Farrington Towing at 405-424-4869.
  If you have questions about bidding\, please call Bray Aucti
 ons at 405-888-5366. Good luck!
URL:https://www.bidbray.com/auctions/detail/bw151094
SEQUENCE:1
END:VEVENT
END:VCALENDAR