BEGIN:VCALENDAR
VERSION:2.0
PRODID:-//ExpressionEngine Easy iCalendar plugin//NONSGML v2.0.1//EN
X-WR-TIMEZONE:America/Chicago
X-WR-CALNAME:Upcoming Auctions
BEGIN:VEVENT
UID:151471
DTSTAMP:20251102T100000
DTSTART:20251102T100000
DTEND:20251201T120000
SUMMARY:9313 NE 13th St\, Midwest City
LOCATION:9313 NE 13th St\, Midwest City\, OK 73130\, US
DESCRIPTION:Unlock a Value-Driven Opportunity in the Heart of the Metro!
  Step into this charming ranch-style home located on a gener
 ous quarter-acre lot in the established 73130 corridor. Buil
 t in 1955\, this single-level gem features 2 bedrooms\, 1 full
  bath\, separate den\, and approximately 1\,008 sq ft of comfor
 table living space. This spacious\, ≈0.25 acre lot features
  a large backyard with a producing pecan tree\, storm shelter
  w/ attached shed\, and spacious 12’X24’ shop / storage b
 uilding.  Key Highlights: Spacious lot (≈0.25 acres) offe
 rs plenty of room to expand\, create outdoor living spaces or
  add value. Recently updated systems: central air and heatin
 g ensure year-round comfort. Classic mid-century charm with 
 original architecture and easy-to-navigate floor plan—perf
 ect for first-time buyers\, investors\, or those seeking a “
 move-in plus personalization” project. Convenient location
  in the thriving greater Oklahoma City market—easy access 
 to major thoroughfares\, shopping\, dining and amenities in OK
 C. Why This Home Stands Out Whether you’re an investor loo
 king for a reliable rental asset or a homeowner ready to cla
 im your place in a growing metro\, this property hits all the
  marks. With solid bones\, a sizable lot\, and great upside\, t
 he home offers both immediate livability and long-term poten
 tial. Attention Auction Buyers This listing will be offered 
 in an online auction format—meaning rare opportunity for b
 uyers to secure a well-situated asset in a seller’s market
  where inventory is low and demand remains strong. Don’t m
 iss your chance…visit Bray Auctions website at www.BidBray
 .com
URL:https://www.bidbray.com/auctions/detail/bw151471
SEQUENCE:1
END:VEVENT
END:VCALENDAR