BEGIN:VCALENDAR
VERSION:2.0
PRODID:-//ExpressionEngine Easy iCalendar plugin//NONSGML v2.0.1//EN
X-WR-TIMEZONE:America/Chicago
X-WR-CALNAME:Upcoming Auctions
BEGIN:VEVENT
UID:151820
DTSTAMP:20251107T090000
DTSTART:20251107T090000
DTEND:20251109T180000
SUMMARY:Cleveland County District Attorney Seizure Auction
LOCATION:700 N Villa Ave\, Oklahoma City\, OK 73107\, US
DESCRIPTION:TERMS & CONDITIONS: All vehicles are sold AS-IS\, WHERE-IS w
 ith NO Returns or Refunds\; it is the buyer's responsibility 
 to inspect and verify information regarding vehicles\; Arrow 
 Wrecker and Bray Auctions have provided information to the b
 est of their ability\, but no guarantees or warranties are ex
 pressed nor implied Highest Bidder Wins. The online bidding 
 platform will close at a rate of 1 item per minute. If a bid
  is made within the final 3 minutes of any item\, the timer o
 n THAT item will be reset to 3 minutes. Back up bidders and 
 others will have the opportunity to bid again on that item. 
 An item does not close or sell until the final 3 minutes ela
 pse with no further bids. All sales are final. It is the bid
 der's responsibility to do due diligence on all items purcha
 sed. Any bidder that wins an item and does not pay will have
  their cards charged up to the full bid price\, their bidding
  credentials revoked\, and will NEVER be permitted to bid aga
 in. All items must be paid for before they are removed. ALL 
 items must be paid for and removed on Monday following the a
 uction from 8:00am to 6:00pm. Payments will be made at Arrow
  Wrecker Service by CASH ONLY. If you have questions about
  vehicles\, please call Arrow Wrecker at 405-943-1800. If yo
 u have questions about bidding\, please call Bray Auctions at
  405-888-5366. Good luck!
URL:https://www.bidbray.com/auctions/detail/bw151820
SEQUENCE:1
END:VEVENT
END:VCALENDAR