BEGIN:VCALENDAR
VERSION:2.0
PRODID:-//ExpressionEngine Easy iCalendar plugin//NONSGML v2.0.1//EN
X-WR-TIMEZONE:America/Chicago
X-WR-CALNAME:Upcoming Auctions
BEGIN:VEVENT
UID:153695
DTSTAMP:20251215T120000
DTSTART:20251215T120000
DTEND:20260108T180000
SUMMARY:Jan 2026 Firearm\, Ammo\, & Accessory Auction
LOCATION:3900 S Broadway\, 2W\, Edmond\, OK 73013\, US
DESCRIPTION:DATE & TIME Auction Closes: Thursday\, January 8th\, Beginning
  @ 6:00pm LOCATION & DIRECTIONS Items are located at: 3900 S
  Broadway\, 2W\, Edmond\, OK 73013 SALE INFORMATION Inspection 
 of items will be held by special appointment only. Bidders a
 re required to create an account and input credit card infor
 mation for authorization. All Purchases Must Be Paid For Bef
 ore They Can Be Picked Up. Cash\, Checks\, Credit / Debit Card
 s\, and Wire Transfers Will Be Accepted. (3% Convenience Fee 
 on All Credit /Debit Card Purchases). A 10% Buyer's Premium 
 Will Be In Effect. All Sales are Final. Non Paying bidders w
 ill have their credit cards charged up to the full amount du
 e and be blocked from all future auctions. Removal of Items 
 will be held by scheduled appointment on Friday\, January 9th
  and Saturday\, January 10th. Winning Bidders will be contact
 ed to choose an appointment on Bray Auctions' scheduling sys
 tem. For Questions\, Contact Bray Auctions @ 405.888.5366
URL:https://www.bidbray.com/auctions/detail/bw153695
SEQUENCE:1
END:VEVENT
END:VCALENDAR