BEGIN:VCALENDAR
VERSION:2.0
PRODID:-//ExpressionEngine Easy iCalendar plugin//NONSGML v2.0.1//EN
X-WR-TIMEZONE:America/Chicago
X-WR-CALNAME:Upcoming Auctions
BEGIN:VEVENT
UID:153697
DTSTAMP:20251215T120000
DTSTART:20251215T120000
DTEND:20260126T130000
SUMMARY:5861 Whispering Lakes Dr\, Noble\, OK - Beautiful Home\, Shop\, 
 & Acreage
LOCATION:5861 Whispering Lakes Dr\, Noble\, OK 73068\, US
DESCRIPTION:Situated on 2.75 beautifully maintained acres in the sought-
 after Whispering Lakes Addition\, this exceptional 4 bedroom\,
  3 full-bath home offers approximately 2\,483 square feet of 
 well-designed living space with peaceful\, picturesque views 
 of a large pond located at the rear of the property. The ope
 n\, split-bedroom floor plan features hardwood style tile flo
 ors\, updated fixtures and finishes\, and expansive windows th
 at fill the home with natural light while framing the serene
  outdoor setting. A flexible fourth bedroom provides versati
 lity and can easily serve as a second living area\, home offi
 ce\, or study\, adapting to a variety of lifestyle needs. The 
 spacious living areas flow seamlessly into the kitchen and d
 ining spaces\, creating an inviting environment ideal for bot
 h everyday living and entertaining. A three-car garage with 
 an in-ground storm shelter adds convenience and peace of min
 d\, while the covered patio offers a relaxing place to enjoy 
 the serene water views. Outdoors\, the property continues to 
 impress with wide-open acreage\, direct pond access\, and a de
 tached\, approximately 750 sq ft fully insulated shop equippe
 d with power and double overhead doors\, perfect for hobbies\,
  storage\, or a workshop. The expansive lot provides privacy\,
  functionality\, and room to grow\, all while maintaining a tr
 anquil rural atmosphere. Conveniently located just minutes f
 rom Highway 9 for easy access to Norman and Highway 77 to Pu
 rcell\, this property delivers the ideal balance of country l
 iving and city accessibility. The home is being sold to the 
 highest bidder at online auction\, with open houses scheduled
  for January 4th and January 11th from 2–4 PM. Private sho
 wings are available by appointment\, and pre-auction offers a
 re being accepted. A 10% Buyers Premium will be in effect. P
 lease review all terms and conditions prior to bidding. NOTE
 : Auction was originally scheduled to close on Monday\, Janua
 ry 12th\, but has been rescheduled to Monday\, January 26th du
 e to court request. Court notice must be placed for a 10 day
  period before auction can close. Sorry for any inconvenienc
 e.
URL:https://www.bidbray.com/auctions/detail/bw153697
SEQUENCE:1
END:VEVENT
END:VCALENDAR