BEGIN:VCALENDAR
VERSION:2.0
PRODID:-//ExpressionEngine Easy iCalendar plugin//NONSGML v2.0.1//EN
X-WR-TIMEZONE:America/Chicago
X-WR-CALNAME:Upcoming Auctions
BEGIN:VEVENT
UID:59468
DTSTAMP:20210124T130000
DTSTART:20210124T130000
DTEND:20210308T130000
SUMMARY:10025 Kingsgate Rd
LOCATION:10025 Kingsgate Rd\, Oklahoma City\, OK 73159\, US
DESCRIPTION:DATE & TIME Auction Closes: Monday\, February 22nd @ 1:00pm L
 OCATION & DIRECTIONS 10025 Kingsgate Rd\, Oklahoma City\, OK 
 73159 SALE INFORMATION Open Houses will be held on Sunday\, F
 ebruary 14th and Sunday\, February 21st from 2:00-4:00pm. Auc
 tion will be held online only. Download the Bray Auctions Ap
 p for iOS and Android Devices or bid online by clicking her
 e. Prospective bidders are required to create an account and
  submit information for approval to bid. Showings by appoint
 ment only. Terms On Real Estate: $5\,000 Deposit / Earnest Mo
 ney Is Due At The Signing of the Contract\, Within 24 Hours o
 f Auction Close. A 10% Buyer's Premium Will Be In Effect. Fo
 r Any Questions\, Call Barrett Bray @ (405) 888-5366 or White
 y Mason @ (405) 630-8670. Property Information 10025 Kingsga
 te Rd 1\,822 4bd / 2ba home in Kingspark addition. Recently r
 emodeled\, this home features new wood floors & carpet\, updat
 ed fixtures\, new cabinets\, new paint and other updates.  
URL:https://www.bidbray.com/auctions/detail/bw59468
SEQUENCE:1
END:VEVENT
END:VCALENDAR