BEGIN:VCALENDAR
VERSION:2.0
PRODID:-//ExpressionEngine Easy iCalendar plugin//NONSGML v2.0.1//EN
X-WR-TIMEZONE:America/Chicago
X-WR-CALNAME:Upcoming Auctions
BEGIN:VEVENT
UID:60728
DTSTAMP:20210301T130000
DTSTART:20210301T130000
DTEND:20210314T150000
SUMMARY:Francis Tuttle Commercial Kitchen Auction
LOCATION:7301 W Reno Ave\, Oklahoma City\, OK 73127\, US
DESCRIPTION:DATE & TIME Auction Closes: Sunday\, March 14th\, Beginning @ 
 3:00pm LOCATION & DIRECTIONS Items are located at: Francis T
 uttle Reno Campus\, 7301 W Reno Ave\, OKC\, OK 73127 SALE INFOR
 MATION ALL ITEMS MUST BE REMOVED ON MONDAY\, MARCH 15TH AND T
 UESDAY MARCH 16TH BY PRE-SCHEDULED APPOINTMENT! Inspection o
 f items will be held by appointment only on Friday\, March 12
 th. Auction will be held online only. Download the Bray Auct
 ions App for iOS and Android Devices or bid online by clicki
 ng here. Bidders are required to create an account and inpu
 t credit card information for authorization. All Purchases M
 ust Be Paid For Before They Can Be Picked Up.  Cash\, Checks
 \, Credit / Debit Cards\, and Wire Transfers Will Be Accepted.
  (3% Convenience Fee on All Credit /Debit Card Purchases). A
  10% Buyer's Premium Will Be In Effect. Removal of Items wil
 l be held by scheduled appointment on Monday\, March 15th & T
 uesday\, March 16th. Winning Bidders will be contacted to cho
 ose an appointment on Bray Auctions' scheduling system. For 
 Any Questions\, Call (405) 888-5366
URL:https://www.bidbray.com/auctions/detail/bw60728
SEQUENCE:1
END:VEVENT
END:VCALENDAR