BEGIN:VCALENDAR
VERSION:2.0
PRODID:-//ExpressionEngine Easy iCalendar plugin//NONSGML v2.0.1//EN
X-WR-TIMEZONE:America/Chicago
X-WR-CALNAME:Upcoming Auctions
BEGIN:VEVENT
UID:61116
DTSTAMP:20210309T140000
DTSTART:20210309T140000
DTEND:20210321T140000
SUMMARY:HUGE Sporting Goods Auction - AMMO\, FISHING\, CAMPING\, & MORE
 !
LOCATION:3900 S Broadway Ave\, 2W\, Edmond\, OK 73013\, US
DESCRIPTION:DATE & TIME Auction Closes: Sunday\, March 21st\, Beginning @ 
 2:00pm LOCATION & DIRECTIONS Items are located at Bray Aucti
 ons\, 3900 S Broadway\, 2W Edmond\, Ok 73013 SALE INFORMATION 
 Inspection of items will be held by appointment on Friday\, M
 arch 19th by appointment only. Auction will be held online o
 nly. Download the Bray Auctions App for iOS and Android Devi
 ces or bid online by clicking here. Bidders are required to
  create an account and input credit card information for aut
 horization. All Purchases Must Be Paid For Before They Can B
 e Picked Up.  Cash\, Checks\, Credit / Debit Cards\, and Wire 
 Transfers Will Be Accepted. (3% Convenience Fee on All Credi
 t /Debit Card Purchases). A 10% Buyer's Premium Will Be In E
 ffect. Removal of Items will be held by appointment on Thurs
 day\, January 21st and Friday\, January 22nd. Winning Bidders 
 will be required to schedule an appointment on Bray Auctions
  scheduling system. For Any Questions\, Call (405) 888-5366.
URL:https://www.bidbray.com/auctions/detail/bw61116
SEQUENCE:1
END:VEVENT
END:VCALENDAR