BEGIN:VCALENDAR
VERSION:2.0
PRODID:-//ExpressionEngine Easy iCalendar plugin//NONSGML v2.0.1//EN
X-WR-TIMEZONE:America/Chicago
X-WR-CALNAME:Upcoming Auctions
BEGIN:VEVENT
UID:61159
DTSTAMP:20210310T130000
DTSTART:20210310T130000
DTEND:20210328T140000
SUMMARY:Edmond Estate - RV\, Vehicle\, Tools\, & MORE!
LOCATION:3666 Prairie Falcon Pointe\, Edmond\, OK 73034\, US
DESCRIPTION:DATE & TIME Auction Closes: Sunday\, March 28th\, Beginning @ 
 2:00pm LOCATION & DIRECTIONS Items are located at: 3666 Prai
 rie Falcon Pointe\, Edmond\, OK 73034 SALE INFORMATION Inspect
 ion of items will be held by appointment only on Monday\, Mar
 ch 22nd. Auction will be held online only. Download the Bray
  Auctions App for iOS and Android Devices or bid online by c
 licking here. Bidders are required to create an account and
  input credit card information for authorization. All Purcha
 ses Must Be Paid For Before They Can Be Picked Up.  Cash\, C
 hecks\, Credit / Debit Cards\, and Wire Transfers Will Be Acce
 pted. (3% Convenience Fee on All Credit /Debit Card Purchase
 s). A 10% Buyer's Premium Will Be In Effect. Removal of Item
 s will be held by scheduled appointment on Thursday\, March 2
 5th and Friday\, March 26th. Winning Bidders will be contacte
 d to choose an appointment on Bray Auctions' scheduling syst
 em. For Any Questions\, Call (405) 888-5366. ITEMS TO BE SOLD
  Highlights 2004 Winnebago Sightseer 35N - LOTS Of EXTRAS! -
  30k mi 2002 Honda CR-V - With Tow Kit\; Excellent Condition 
 - 180k mi Power Yard Equipment Craftsman DLS3500 Bagger Ridi
 ng Mower\, Several Lawn Mowers\, Gas Powered Tillers & Edgers\,
  Gas & Electric Trimmers\, Like New Wheelbarrow & Spreaders\, 
 Tree Saws\, & Blowers Woodworking Equipment Craftsman 16" Scr
 oll Saw\, Craftsman 11" Band Saw\, Craftsman 8" Drill Press\, C
 raftsman Belt / Disc Sander Power Tools & Equipment Chicago 
 90A Flux Wire Welder\, LOTS of Power Tools Including Drills\, 
 Sanders\, Saws\, & MORE Other Shop Fans\, NEW Tools\, Wrench Set
 s\, Socket Sets\, Bit Sets\, OU Collectible & Tailgating Items\,
  Shop / Garage Shelving\, Extension Cords\, Toolboxes\, Camping
  Gear\, Exercise Equipment\, Furniture\, & MORE!!!  
URL:https://www.bidbray.com/auctions/detail/bw61159
SEQUENCE:1
END:VEVENT
END:VCALENDAR