BEGIN:VCALENDAR
VERSION:2.0
PRODID:-//ExpressionEngine Easy iCalendar plugin//NONSGML v2.0.1//EN
X-WR-TIMEZONE:America/Chicago
X-WR-CALNAME:Upcoming Auctions
BEGIN:VEVENT
UID:61563
DTSTAMP:20210319T130000
DTSTART:20210319T130000
DTEND:20210322T180000
SUMMARY:Barnes Wrecker Service
LOCATION:10103 SE 29th St\, Midwest City\, OK 73130\, US
DESCRIPTION:TERMS & CONDITIONS: All vehicles are soldÂ AS-IS\; it is the 
 buyer's responsibility to inspect and verify information reg
 arding vehicles\; Barnes Wrecker Service and Bray Auctions ha
 ve provided information to the best of their ability\, but no
  guarantees or warranties are expressed nor implied. Highest
  Bidder Wins. The online bidding platform will close at a ra
 te of 1 item per minute. If a bid is made within the final 3
  minutes of any item\, the timer on THAT item will be reset t
 o 3 minutes. Back up bidders and others will have the opport
 unity to bid again on that item. An item does not close or s
 ell until the final 3 minutes elapse with no further bids. A
 ll sales are final. It is the bidder's responsibility to do 
 due diligence on all items purchased. Any bidder that wins a
 n item and does not pay will have their bidding credentials 
 revoked and will NEVER be permitted to bid again. All items 
 must be paid for before they are removed. ALL items must be 
 paid forÂ on Tuesday\, August 11th from 8:00am to 4:00pm. Win
 ning bidders have until Friday at 4:00 to pick up their vehi
 cle(s). Payments will be made at BarnesÂ Wrecker Service byÂ
  cash OR Express Pay only! If you have questions about vehic
 les\, please call Barnes Wrecker atÂ 405-737-7625. If you hav
 e questions about bidding\, please call Bray Auctions atÂ 405
 -888-5366. Good luck!
URL:https://www.bidbray.com/auctions/detail/bw61563
SEQUENCE:1
END:VEVENT
END:VCALENDAR