BEGIN:VCALENDAR
VERSION:2.0
PRODID:-//ExpressionEngine Easy iCalendar plugin//NONSGML v2.0.1//EN
X-WR-TIMEZONE:America/Chicago
X-WR-CALNAME:Upcoming Auctions
BEGIN:VEVENT
UID:61871
DTSTAMP:20210325T130000
DTSTART:20210325T130000
DTEND:20210406T130000
SUMMARY:Vehicles\, Trailers\, Tools\, Equipment\, & MORE!
LOCATION:905 S Cemetery Rd\, Tuttle\, OK 73089\, US
DESCRIPTION:DATE & TIME Auction Closes: Tuesday\, April 6th\, Beginning @ 
 1:00pm LOCATION & DIRECTIONS Items are located at: 905 Cemet
 ery Rd\, Tuttle\, OK 73089 SALE INFORMATION Inspection of item
 s will be held by appointment only on Monday\, April 5th. Au
 ction will be held online only. Download the Bray Auctions A
 pp for iOS and Android Devices or bid online by clicking he
 re. Bidders are required to create an account and input cred
 it card information for authorization. All Purchases Must Be
  Paid For Before They Can Be Picked Up.  Cash\, Checks\, Cred
 it / Debit Cards\, and Wire Transfers Will Be Accepted. (3% C
 onvenience Fee on All Credit /Debit Card Purchases). A 10% B
 uyer's Premium Will Be In Effect. Removal of Items will be h
 eld by scheduled appointment on Wednesday\, April 7th throu
 gh Friday\, April 9th. Winning Bidders will be contacted to c
 hoose an appointment on Bray Auctions' scheduling system. Fo
 r Any Questions\, Call (405) 888-5366.
URL:https://www.bidbray.com/auctions/detail/bw61871
SEQUENCE:1
END:VEVENT
END:VCALENDAR