BEGIN:VCALENDAR
VERSION:2.0
PRODID:-//ExpressionEngine Easy iCalendar plugin//NONSGML v2.0.1//EN
X-WR-TIMEZONE:America/Chicago
X-WR-CALNAME:Upcoming Auctions
BEGIN:VEVENT
UID:62541
DTSTAMP:20210412T120000
DTSTART:20210412T120000
DTEND:20210417T191500
SUMMARY:JSL of MWC Ways and Means Auction
LOCATION:PO Box 10703\, Midwest City\, OK 73140\, US
DESCRIPTION:All items must be picked up at the Choctaw Chamber of Commer
 ce 4/18 1-5pm or 4/19 5-8pm.  For any other arrangements\, c
 ontact us at jslmwc@gmail.com.   Items expire in one year
 \, unless otherwise noted. 
URL:https://www.bidbray.com/auctions/detail/bw62541
SEQUENCE:1
END:VEVENT
END:VCALENDAR