BEGIN:VCALENDAR
VERSION:2.0
PRODID:-//ExpressionEngine Easy iCalendar plugin//NONSGML v2.0.1//EN
X-WR-TIMEZONE:America/Chicago
X-WR-CALNAME:Upcoming Auctions
BEGIN:VEVENT
UID:62583
DTSTAMP:20210412T130000
DTSTART:20210412T130000
DTEND:20210427T130000
SUMMARY:Motorcycles\, Trailers\, ATV\, Forklift\, Tractor\, & MORE!
LOCATION:501 W Indian Hills Rd\, Norman\, OK 73069\, US
DESCRIPTION:DATE & TIME Auction Closes: Tuesday\, April 27th\, Beginning @
  1:00pm LOCATION & DIRECTIONS Items are located at: 501 W In
 dian Hills Rd\, Norman\, OK 73069 SALE INFORMATION Inspection 
 of items will be held by appointment only on Monday\, April 2
 6th. Auction will be held online only. Download the Bray Auc
 tions App for iOS and Android Devices or bid online by click
 ing here. Bidders are required to create an account and inp
 ut credit card information for authorization. All Purchases 
 Must Be Paid For Before They Can Be Picked Up.  Cash\, Check
 s\, Credit / Debit Cards\, and Wire Transfers Will Be Accepted
 . (3% Convenience Fee on All Credit /Debit Card Purchases). 
 A 10% Buyer's Premium Will Be In Effect. Removal of Items wi
 ll be held by scheduled appointment on Wednesday\, April 28th
  and Thursday\, April 29th. Winning Bidders will be contacte
 d to choose an appointment on Bray Auctions' scheduling syst
 em. For Any Questions\, Call (405) 888-5366.
URL:https://www.bidbray.com/auctions/detail/bw62583
SEQUENCE:1
END:VEVENT
END:VCALENDAR