BEGIN:VCALENDAR
VERSION:2.0
PRODID:-//ExpressionEngine Easy iCalendar plugin//NONSGML v2.0.1//EN
X-WR-TIMEZONE:America/Chicago
X-WR-CALNAME:Upcoming Auctions
BEGIN:VEVENT
UID:62796
DTSTAMP:20210416T130000
DTSTART:20210416T130000
DTEND:20210517T130000
SUMMARY:2 Anadarko Investment Residential Properties
LOCATION:819 SW 4th St\, Anadarko\, OK 73005\, US
DESCRIPTION:DATE & TIME Auction Closes: Monday\, May 17th @ 1:00pm LOCATI
 ON & DIRECTIONS 819 SW 4th St.\, Anadarko\, OK\, 73005 OR 313 W
  Texas Ave.\, Anadarko\, OK 73005 SALE INFORMATION Please Read
  Terms and Conditions Open Houses will be held on Sunday\, Ma
 y 9th and Sunday\, May 16th from 2:00-4:00pm. Auction will be
  held online only. Download the Bray Auctions App for iOS an
 d Android Devices or bid online by clicking here. Prospectiv
 e bidders are required to create an account and submit infor
 mation for approval to bid. Showings by appointment only. Te
 rms On Real Estate: $5\,000 Deposit / Earnest Money Is Due At
  The Signing of the Contract\, Within 24 Hours of Auction Clo
 se. A 10% Buyer's Premium Will Be In Effect. For Any Questio
 ns\, Call Barrett Bray @ (405) 888-5366 or Whitey Mason @ (40
 5) 630-8670. PROPERTY INFORMATION 819 SW 4th This home is lo
 cated on a huge corner lot.  The house is almost 1\,400 sq. 
 ft. and includes 2 bedrooms and 1 bath with new carpet and n
 ew paint.  There is a large den area that can also easily b
 e converted to a third bedroom.  Also included is a dining 
 room off the kitchen\, a laundry room\, a huge fenced in backy
 ard\, and a two-unit carport. There is also a large storage s
 hed in the backyard. 313 W Texas This property is 820 sq ft 
 and includes 2 bedrooms\, 1 bath and single unit carport alon
 g with a detached single car garage.  The backyard is fence
 d and there is a 10’x15’ basement.
URL:https://www.bidbray.com/auctions/detail/bw62796
SEQUENCE:1
END:VEVENT
END:VCALENDAR