BEGIN:VCALENDAR
VERSION:2.0
PRODID:-//ExpressionEngine Easy iCalendar plugin//NONSGML v2.0.1//EN
X-WR-TIMEZONE:America/Chicago
X-WR-CALNAME:Upcoming Auctions
BEGIN:VEVENT
UID:63240
DTSTAMP:20210427T130000
DTSTART:20210427T130000
DTEND:20210505T130000
SUMMARY:Francis Tuttle Excess Equipment Auction
LOCATION:12777 N Rockwell Ave\, Oklahoma City\, OK 73142\, US
DESCRIPTION:DATE & TIME Auction Closes: Wednesday\, May 5th\, Beginning @ 
 1:00pm LOCATION & DIRECTIONS Items are located at: Francis T
 uttle\, 12777 N Rockwell Ave\, 73142 SALE INFORMATION Inspecti
 on of items will be held by appointment only on Tuesday\, May
  4th. Auction will be held online only. Download the Bray Au
 ctions App for iOS and Android Devices or bid online by clic
 king here. Bidders are required to create an account and in
 put credit card information for authorization. All Purchases
  Must Be Paid For Before They Can Be Picked Up.  Cash\, Chec
 ks\, Credit / Debit Cards\, and Wire Transfers Will Be Accepte
 d. (3% Convenience Fee on All Credit /Debit Card Purchases).
  A 10% Buyer's Premium Will Be In Effect. Removal of Items w
 ill be held by scheduled appointment on Wednesday\, April 28t
 h and Thursday\, April 29th. Winning Bidders will be contact
 ed to choose an appointment on Bray Auctions' scheduling sys
 tem.
URL:https://www.bidbray.com/auctions/detail/bw63240
SEQUENCE:1
END:VEVENT
END:VCALENDAR