BEGIN:VCALENDAR
VERSION:2.0
PRODID:-//ExpressionEngine Easy iCalendar plugin//NONSGML v2.0.1//EN
X-WR-TIMEZONE:America/Chicago
X-WR-CALNAME:Upcoming Auctions
BEGIN:VEVENT
UID:63336
DTSTAMP:20210426T130000
DTSTART:20210426T130000
DTEND:20210524T130000
SUMMARY:Moore Car Wash / Commercial Property
LOCATION:9033 S Bryant Ave\, Moore\, OK 73160\, US
DESCRIPTION:DATE & TIME Auction Closes: Monday\, April 26th @ 1:00pm LOCA
 TION & DIRECTIONS 9033 S Bryant\, Moore\, OK 73160 SALE INFORM
 ATION Auction will be held online only. Download the Bray Au
 ctions App for iOS and Android Devices or bid online by clic
 king here. Prospective bidders are required to create an acc
 ount and submit information for approval to bid. Showings by
  appointment only. Terms On Real Estate: $5\,000 Deposit / Ea
 rnest Money Is Due At The Signing of the Contract\, Within 24
  Hours of Auction Close. A 10% Buyer's Premium Will Be In Ef
 fect. For Any Questions\, Call Barrett Bray @ (405) 888-5366 
 or Whitey Mason @ (405) 630-8670. Property Information 9033 
 S Bryant\, Moore\, OK 73160 This property is located near the 
 corner of SW 89th and Bryant in Moore.Â  This location is id
 eal for any of the Dollar stores\, retail or fast food. There
  is 224â€™ of frontage along Bryant Ave and the lot is 206â€
 ™ deep.Â  There is currently a non-operational 5 bay manual 
 car wash on the property that could be renovated or removed.
URL:https://www.bidbray.com/auctions/detail/bw63336
SEQUENCE:1
END:VEVENT
END:VCALENDAR