BEGIN:VCALENDAR
VERSION:2.0
PRODID:-//ExpressionEngine Easy iCalendar plugin//NONSGML v2.0.1//EN
X-WR-TIMEZONE:America/Chicago
X-WR-CALNAME:Upcoming Auctions
BEGIN:VEVENT
UID:63423
DTSTAMP:20210430T130000
DTSTART:20210430T130000
DTEND:20210517T130000
SUMMARY:Trailers\, Tractor\, Vac Truck\, Welders\, & MORE!
LOCATION:6100 S Bryant\, Oklahoma City\, OK 73149\, US
DESCRIPTION:DATE & TIME Auction Closes: Monday\, May 17th\, Beginning @ 1:
 00pm LOCATION & DIRECTIONS Items are located at: 6100 S Brya
 nt\, Oklahoma City\, OK 73149 SALE INFORMATION Inspection of i
 tems will be held by appointment only on Friday\, May 14th. A
 uction will be held online only. Download the Bray Auctions 
 App for iOS and Android Devices or bid online by clicking h
 ere. Bidders are required to create an account and input cre
 dit card information for authorization. All Purchases Must B
 e Paid For Before They Can Be Picked Up.  Cash\, Checks\, Cre
 dit / Debit Cards\, and Wire Transfers Will Be Accepted. (3% 
 Convenience Fee on All Credit /Debit Card Purchases). A 10% 
 Buyer's Premium Will Be In Effect. Removal of Items will be 
 held by scheduled appointment on Wednesday\, April 28th and 
 Thursday\, April 29th. Winning Bidders will be contacted to c
 hoose an appointment on Bray Auctions' scheduling system.
URL:https://www.bidbray.com/auctions/detail/bw63423
SEQUENCE:1
END:VEVENT
END:VCALENDAR