BEGIN:VCALENDAR
VERSION:2.0
PRODID:-//ExpressionEngine Easy iCalendar plugin//NONSGML v2.0.1//EN
X-WR-TIMEZONE:America/Chicago
X-WR-CALNAME:Upcoming Auctions
BEGIN:VEVENT
UID:63677
DTSTAMP:20210507T130000
DTSTART:20210507T130000
DTEND:20210509T180000
SUMMARY:Arrow Wrecker Impound Auction
LOCATION:700 N Villa\, Oklahoma City\, OK 73107\, US
DESCRIPTION:TERMS & CONDITIONS: All vehicles are sold AS-IS\; it is the 
 buyer's responsibility to inspect and verify information reg
 arding vehicles\; Arrow Wrecker and Bray Auctions have provid
 ed information to the best of their ability\, but no guarante
 es or warranties are expressed nor implied Highest Bidder Wi
 ns. The online bidding platform will close at a rate of 1 it
 em per minute. If a bid is made within the final 3 minutes o
 f any item\, the timer on THAT item will be reset to 3 minute
 s. Back up bidders and others will have the opportunity to b
 id again on that item. An item does not close or sell until 
 the final 3 minutes elapse with no further bids. All sales a
 re final. It is the bidder's responsibility to do due dilige
 nce on all items purchased. Any bidder that wins an item and
  does not pay will have their bidding credentials revoked an
 d will NEVER be permitted to bid again. All items must be 
 paid for before they are removed. ALL items must be paid for
  and removed on the Monday through Wednesday following the a
 uction from 8:00am to 6:00pm. Payments will be made at Arrow
  Wrecker Service by cash or credit card. If you have questio
 ns about vehicles\, please call Arrow Wrecker at 405-943-180
 0. If you have questions about bidding\, please call Bray Auc
 tions at 405-888-5366. Good luck!
URL:https://www.bidbray.com/auctions/detail/bw63677
SEQUENCE:1
END:VEVENT
END:VCALENDAR