BEGIN:VCALENDAR
VERSION:2.0
PRODID:-//ExpressionEngine Easy iCalendar plugin//NONSGML v2.0.1//EN
X-WR-TIMEZONE:America/Chicago
X-WR-CALNAME:Upcoming Auctions
BEGIN:VEVENT
UID:63972
DTSTAMP:20210513T130000
DTSTART:20210513T130000
DTEND:20210526T120000
SUMMARY:HUGE Woodworking Equipment & Estate Auction
LOCATION:4120 Blue Ridge Rd\, Edmond\, OK 73034\, US
DESCRIPTION:DATE & TIME Auction Closes: Wednesday\, May 26th\, Beginning @
  12:00pm LOCATION & DIRECTIONS Items are located at: 4120 Bl
 ue Ridge Rd\, Edmond\, OK 73034 SALE INFORMATION Inspection of
  items will be held by appointment only on Tuesday\, May 25th
 . Auction will be held online only. Download the Bray Auctio
 ns App for iOS and Android Devices or bid online by clicking
  here. Bidders are required to create an account and input 
 credit card information for authorization. All Purchases Mus
 t Be Paid For Before They Can Be Picked Up.  Cash\, Checks\, 
 Credit / Debit Cards\, and Wire Transfers Will Be Accepted. (
 3% Convenience Fee on All Credit /Debit Card Purchases). A 1
 0% Buyer's Premium Will Be In Effect. Removal of Items will 
 be held by scheduled appointment on Thursday\, May 27th and 
 Friday\, April 28th. Winning Bidders will be contacted to cho
 ose an appointment on Bray Auctions' scheduling system. For 
 Any Questions\, Call (405) 888-5366.
URL:https://www.bidbray.com/auctions/detail/bw63972
SEQUENCE:1
END:VEVENT
END:VCALENDAR