BEGIN:VCALENDAR
VERSION:2.0
PRODID:-//ExpressionEngine Easy iCalendar plugin//NONSGML v2.0.1//EN
X-WR-TIMEZONE:America/Chicago
X-WR-CALNAME:Upcoming Auctions
BEGIN:VEVENT
UID:65282
DTSTAMP:20210613T130000
DTSTART:20210613T130000
DTEND:20210623T130000
SUMMARY:Antique\, Collectible\, & Estate Auction
LOCATION:2104 Cadwell Ave\, Oklahoma City\, OK 73170\, US
DESCRIPTION:DATE & TIME Auction Closes: Wednesday\, June 23rd\, Beginning
  @ 1:00pm LOCATION & DIRECTIONS Items are located at: 2104 C
 adwell Ave\, Oklahoma City\, OK 73170 SALE INFORMATION Inspect
 ion of items will be held by appointment only on Tuesday\, Ju
 ne 22nd. Auction will be held online only. Download the Bray
  Auctions App for iOS and Android Devices or bid online by c
 licking here. Bidders are required to create an account and
  input credit card information for authorization. All Purcha
 ses Must Be Paid For Before They Can Be Picked Up.  Cash\, C
 hecks\, Credit / Debit Cards\, and Wire Transfers Will Be Acce
 pted. (3% Convenience Fee on All Credit /Debit Card Purchase
 s). A 10% Buyer's Premium Will Be In Effect. Removal of Item
 s will be held by scheduled appointment on Thursday\, June 24
 th and Friday\, June 25th. Winning Bidders will be contacted
  to choose an appointment on Bray Auctions' scheduling syste
 m. For Any Questions\, Call (405) 888-5366.
URL:https://www.bidbray.com/auctions/detail/bw65282
SEQUENCE:1
END:VEVENT
END:VCALENDAR