BEGIN:VCALENDAR
VERSION:2.0
PRODID:-//ExpressionEngine Easy iCalendar plugin//NONSGML v2.0.1//EN
X-WR-TIMEZONE:America/Chicago
X-WR-CALNAME:Upcoming Auctions
BEGIN:VEVENT
UID:65436
DTSTAMP:20210616T130000
DTSTART:20210616T130000
DTEND:20210630T130000
SUMMARY:HUGE Commercial & Industrial Equipment Auction!
LOCATION:3900 S Broadway\, 2W\, Edmond\, OK 73013\, US
DESCRIPTION:DATE & TIME Auction Closes: Wednesday\, June 30th\, Beginning 
 @ 1:00pm LOCATION & DIRECTIONS Items are located at Bray Auc
 tions\, 3900 S Broadway\, 2W\, Edmond\, OK 73013 SALE INFORMATIO
 N Inspection of items will be held by appointment only on Mo
 nday\, June 28th and Tuesday\, June 29th. Auction will be held
  online only. Download the Bray Auctions App for iOS and And
 roid Devices or bid online by clicking here. Bidders are re
 quired to create an account and input credit card informatio
 n for authorization. All Purchases Must Be Paid For Before T
 hey Can Be Picked Up.  Cash\, Checks\, Credit / Debit Cards\, 
 and Wire Transfers Will Be Accepted. (3% Convenience Fee on 
 All Credit /Debit Card Purchases). A 10% Buyer's Premium Wil
 l Be In Effect. Removal of Items will be held by pre-schedul
 ed appointment on Thursday\, July 1st and Friday\, July 2nd. 
 Winning Bidders will be contacted to choose an appointment o
 n Bray Auctions' scheduling system. For Any Questions\, Call 
 (405) 888-5366. ITEMS TO BE SOLD More Info Coming Soon!
URL:https://www.bidbray.com/auctions/detail/bw65436
SEQUENCE:1
END:VEVENT
END:VCALENDAR