BEGIN:VCALENDAR
VERSION:2.0
PRODID:-//ExpressionEngine Easy iCalendar plugin//NONSGML v2.0.1//EN
X-WR-TIMEZONE:America/Chicago
X-WR-CALNAME:Upcoming Auctions
BEGIN:VEVENT
UID:66490
DTSTAMP:20210712T130000
DTSTART:20210712T130000
DTEND:20210726T130000
SUMMARY:HIGH END Jewelry Auction - Diamonds\, Gold\, Silver\, & MORE
LOCATION:3900 S Broadway\, 2W\, Edmond\, OK 73013\, US
DESCRIPTION:DATE & TIME Auction Closes: Monday\, July 26th\, Beginning @ 1
 :00pm LOCATION & DIRECTIONS Items are located at Bray Auctio
 ns\, 3900 S Broadway\, 2W\, Edmond\, OK 73013 SALE INFORMATION I
 nspection of items will be held by appointment only on Frida
 y\, July 23rd and Monday\, July 26th. Auction will be held onl
 ine only. Download the Bray Auctions App for iOS and Android
  Devices or bid online by clicking here. Bidders are require
 d to create an account and input credit card information for
  authorization. All Purchases Must Be Paid For Before They C
 an Be Picked Up. Cash\, Checks\, Credit / Debit Cards\, and Wir
 e Transfers Will Be Accepted. (3% Convenience Fee on All Cre
 dit /Debit Card Purchases). A 10% Buyer's Premium Will Be In
  Effect. Removal of Items will be held by pre-scheduled appo
 intment on Tuesday\, July 27th and Thursday\, July 28th. Winni
 ng Bidders will be contacted to choose an appointment on Bra
 y Auctions' scheduling system. For Any Questions\, Call (405)
  888-5366.
URL:https://www.bidbray.com/auctions/detail/bw66490
SEQUENCE:1
END:VEVENT
END:VCALENDAR