BEGIN:VCALENDAR
VERSION:2.0
PRODID:-//ExpressionEngine Easy iCalendar plugin//NONSGML v2.0.1//EN
X-WR-TIMEZONE:America/Chicago
X-WR-CALNAME:Upcoming Auctions
BEGIN:VEVENT
UID:66511
DTSTAMP:20210712T130000
DTSTART:20210712T130000
DTEND:20210809T130000
SUMMARY:Guthrie Home w/ 5 Acres!
LOCATION:7975 S Pine St\, Guthrie\, OK 73044\, US
DESCRIPTION:DATE & TIME Auction Closes: Monday\, August 9th @ 1:00pm LOCA
 TION & DIRECTIONS 7975 S Pine St\, Guthrie\, OK 73044 SALE INF
 ORMATION  Open Houses will be held on Sunday\, August 1st an
 d Sunday\, August 8th from 2:00-4:00pm. Auction will be held 
 online only. Download the Bray Auctions App for iOS and Andr
 oid Devices or bid online by clicking here. Prospective bid
 ders are required to create an account and submit informatio
 n for approval to bid. Showings by appointment only. Terms O
 n Real Estate: $5\,000 Deposit / Earnest Money Is Due At The 
 Signing of the Contract\, Within 24 Hours of Auction Close. A
  10% Buyer's Premium Will Be In Effect. For Any Questions\, C
 all Barrett Bray @ (405) 888-5366 or Whitey Mason @ (405) 63
 0-8670. Property Information  
URL:https://www.bidbray.com/auctions/detail/bw66511
SEQUENCE:1
END:VEVENT
END:VCALENDAR