BEGIN:VCALENDAR
VERSION:2.0
PRODID:-//ExpressionEngine Easy iCalendar plugin//NONSGML v2.0.1//EN
X-WR-TIMEZONE:America/Chicago
X-WR-CALNAME:Upcoming Auctions
BEGIN:VEVENT
UID:66875
DTSTAMP:20210720T130000
DTSTART:20210720T130000
DTEND:20210804T130000
SUMMARY:Large Cowboy Memorabilia & Antique Auction
LOCATION:7975 S Pine St\, Guthrie\, OK 73044\, US
DESCRIPTION:DATE & TIME Auction Closes: Wednesday\, August 4th\, Beginning
  @ 1:00pm LOCATION & DIRECTIONS Items are located at 7975 S 
 Pine St\, Guthrie\, OK 73044 SALE INFORMATION Inspection of it
 ems will be held by appointment only on Tuesday\, August 3rd.
  Auction will be held online only. Download the Bray Auction
 s App for iOS and Android Devices or bid online by clickingÂ
  here. Bidders are required to create an account and input c
 redit card information for authorization. All Purchases Must
  Be Paid For Before They Can Be Picked Up.Â  Cash\, Checks\, C
 redit / Debit Cards\, and Wire Transfers Will Be Accepted. (3
 % Convenience Fee on All Credit /Debit Card Purchases). A 10
 % Buyer's Premium Will Be In Effect. Removal of Items will b
 e held by pre-scheduled appointment on Thursday\, August 5th 
 and Friday\, August 6th. Winning Bidders will be contacted to
  choose an appointment on Bray Auctions' scheduling system. 
 For Any Questions\, Call (405) 888-5366.
URL:https://www.bidbray.com/auctions/detail/bw66875
SEQUENCE:1
END:VEVENT
END:VCALENDAR