BEGIN:VCALENDAR
VERSION:2.0
PRODID:-//ExpressionEngine Easy iCalendar plugin//NONSGML v2.0.1//EN
X-WR-TIMEZONE:America/Chicago
X-WR-CALNAME:Upcoming Auctions
BEGIN:VEVENT
UID:66876
DTSTAMP:20210720T130000
DTSTART:20210720T130000
DTEND:20210730T130000
SUMMARY:Associated Metallurgists of Oklahoma - Liquidation Auction
LOCATION:4945 SE 44th St\, Norman\, OK 73072\, US
DESCRIPTION:DATE & TIME Auction Closes: Friday\, July 30th\, Beginning @ 1
 :00pm LOCATION & DIRECTIONS Items are located at: 4945 SE 44
 th St\, Norman\, OK 73072 SALE INFORMATION Inspection of items
  will be held by appointment only on Thursday\, July 29th. Au
 ction will be held online only. Download the Bray Auctions A
 pp for iOS and Android Devices or bid online by clicking he
 re. Bidders are required to create an account and input cred
 it card information for authorization. All Purchases Must Be
  Paid For Before They Can Be Picked Up.  Cash\, Checks\, Cred
 it / Debit Cards\, and Wire Transfers Will Be Accepted. (3% C
 onvenience Fee on All Credit /Debit Card Purchases). A 10% B
 uyer's Premium Will Be In Effect. Removal of Items will be h
 eld by scheduled appointment on Monday\, August 2nd and Tuesd
 ay\, August 3rd. Winning Bidders will be contacted to choose 
 an appointment on Bray Auctions' scheduling system. For Any 
 Questions\, Call (405) 888-5366.
URL:https://www.bidbray.com/auctions/detail/bw66876
SEQUENCE:1
END:VEVENT
END:VCALENDAR