BEGIN:VCALENDAR
VERSION:2.0
PRODID:-//ExpressionEngine Easy iCalendar plugin//NONSGML v2.0.1//EN
X-WR-TIMEZONE:America/Chicago
X-WR-CALNAME:Upcoming Auctions
BEGIN:VEVENT
UID:67303
DTSTAMP:20210731T100000
DTSTART:20210731T100000
DTEND:20210731T110000
SUMMARY:LIVE AUCTION!!! BMW\, Tractor\, Furniture\, & MORE!
LOCATION:{location}
DESCRIPTION:DATE & TIME Saturday\, July 31st: Registration Begins at 9:00
 am / Auction Begins at 10:00pm LOCATION & DIRECTIONS Items a
 re located at: 1025 NE 23rd St.\, Oklahoma City\, OK 73111 SAL
 E INFORMATION Registration and Inspection will begin at 9:00
 am the morning of the auction. All Purchases Must Be Paid Fo
 r Before They Can Be Removed. Cash\, Checks\, Credit / Debit C
 ards Will Be Accepted. (3% Convenience Fee on All Credit /De
 bit Card Purchases). A 10% Buyer's Premium Will Be In Effect
 . Purchased Items Must Be Removed on the Day of the Auction.
  ITEMS TO BE SOLD Large Items BMW X5\, Tractor Furniture HUGE
  Assortment of New & Used Furniture: Bedroom Suites\, Dining 
 Tables\, Head & Footboards\, Side/Sofa/Coffee Tables\, Armoires
 \, Dressers & Night Stands\, Patio Furniture\, Arm Chairs\, & MO
 RE! Artwork & Decor Large Assortment of Paintings\, Prints\, M
 irrors\, Lamps\, & MORE! For Questions\, Contact Bray Auctions 
 @ 405.888.5366
URL:https://www.bidbray.com/auctions/detail/bw67303
SEQUENCE:1
END:VEVENT
END:VCALENDAR