BEGIN:VCALENDAR
VERSION:2.0
PRODID:-//ExpressionEngine Easy iCalendar plugin//NONSGML v2.0.1//EN
X-WR-TIMEZONE:America/Chicago
X-WR-CALNAME:Upcoming Auctions
BEGIN:VEVENT
UID:67908
DTSTAMP:20210811T130000
DTSTART:20210811T130000
DTEND:20210825T130000
SUMMARY:Seven47 Restaurant & Bar Auction
LOCATION:112 W Main St\, Norman\, OK 73069\, US
DESCRIPTION:DATE & TIME Auction Closes: Wednesday\, August 25th\, Beginnin
 g @ 1:00pm LOCATION & DIRECTIONS Items are located at: 112 W
  Main St\, Norman\, OK 73069 SALE INFORMATION Inspection of it
 ems will be held by appointment only on Tuesday\, August 24th
 . Auction will be held online only. Download the Bray Auctio
 ns App for iOS and Android Devices or bid online by clicking
  here. Bidders are required to create an account and input 
 credit card information for authorization. All Purchases Mus
 t Be Paid For Before They Can Be Picked Up.  Cash\, Checks\, 
 Credit / Debit Cards\, and Wire Transfers Will Be Accepted. (
 3% Convenience Fee on All Credit /Debit Card Purchases). A 1
 0% Buyer's Premium Will Be In Effect. Removal of Items will 
 be held by appointment on Thursday\, August 26th and Friday\, 
 August 27th. Winning Bidders will be required to schedule an
  appointment on Bray Auctions scheduling system. For Any Que
 stions\, Call (405) 888-5366.
URL:https://www.bidbray.com/auctions/detail/bw67908
SEQUENCE:1
END:VEVENT
END:VCALENDAR