BEGIN:VCALENDAR
VERSION:2.0
PRODID:-//ExpressionEngine Easy iCalendar plugin//NONSGML v2.0.1//EN
X-WR-TIMEZONE:America/Chicago
X-WR-CALNAME:Upcoming Auctions
BEGIN:VEVENT
UID:68025
DTSTAMP:20210813T130000
DTSTART:20210813T130000
DTEND:20210907T130000
SUMMARY:HUGE Commercial Tool & Equipment Auction
LOCATION:3613 SW 13th St\, Oklahoma City\, OK 73108\, US
DESCRIPTION:DATE & TIME Auction Closes: Tuesday\, September 7th\, Beginnin
 g @ 1:00pm LOCATION & DIRECTIONS Items are located at: 3613 
 SW 13th St\, Oklahoma City\, OK 73108 SALE INFORMATION Inspect
 ion of items will be held by appointment only on Friday\, Sep
 tember 3rd. Auction will be held online only. Download the B
 ray Auctions App for iOS and Android Devices or bid online b
 y clicking here. Bidders are required to create an account 
 and input credit card information for authorization. All Pur
 chases Must Be Paid For Before They Can Be Picked Up.  Cash
 \, Checks\, Credit / Debit Cards\, and Wire Transfers Will Be A
 ccepted. (3% Convenience Fee on All Credit /Debit Card Purch
 ases). A 10% Buyer's Premium Will Be In Effect. Removal of I
 tems will be held by appointment on Wednesday\, September 8th
  and Thursday\, September 9th. Winning Bidders will be requir
 ed to schedule an appointment on Bray Auctions scheduling sy
 stem. For Any Questions\, Call (405) 888-5366.
URL:https://www.bidbray.com/auctions/detail/bw68025
SEQUENCE:1
END:VEVENT
END:VCALENDAR