BEGIN:VCALENDAR
VERSION:2.0
PRODID:-//ExpressionEngine Easy iCalendar plugin//NONSGML v2.0.1//EN
X-WR-TIMEZONE:America/Chicago
X-WR-CALNAME:Upcoming Auctions
BEGIN:VEVENT
UID:68043
DTSTAMP:20210813T130000
DTSTART:20210813T130000
DTEND:20210901T130000
SUMMARY:Private Investigator Gear / Electronics & Surveillance Aucti
 on
LOCATION:3900 S Broadway\, 2W\, Edmond\, OK 73013\, US
DESCRIPTION:DATE & TIME Auction Closes: Wednesday\, August 25th\, Beginnin
 g @ 1:00pm LOCATION & DIRECTIONS Items are located at: 3900 
 S Broadway\, 2W\, Edmond\, OK 73013 SALE INFORMATION Inspection
  of items will be held by appointment only on Tuesday\, Augus
 t 24th. Auction will be held online only. Download the Bray 
 Auctions App for iOS and Android Devices or bid online by cl
 icking here. Bidders are required to create an account and 
 input credit card information for authorization. All Purchas
 es Must Be Paid For Before They Can Be Picked Up.  Cash\, Ch
 ecks\, Credit / Debit Cards\, and Wire Transfers Will Be Accep
 ted. (3% Convenience Fee on All Credit /Debit Card Purchases
 ). A 10% Buyer's Premium Will Be In Effect. Removal of Items
  will be held by scheduled appointment on Thursday\, August 2
 6th & Friday\, August 27th. Winning Bidders will be contacted
  to choose an appointment on Bray Auctions' scheduling syste
 m. For Any Questions\, Call (405) 888-5366. For Questions\, Co
 ntact Bray Auctions @ 405.888.5366
URL:https://www.bidbray.com/auctions/detail/bw68043
SEQUENCE:1
END:VEVENT
END:VCALENDAR