BEGIN:VCALENDAR
VERSION:2.0
PRODID:-//ExpressionEngine Easy iCalendar plugin//NONSGML v2.0.1//EN
X-WR-TIMEZONE:America/Chicago
X-WR-CALNAME:Upcoming Auctions
BEGIN:VEVENT
UID:68224
DTSTAMP:20210818T130000
DTSTART:20210818T130000
DTEND:20210908T130000
SUMMARY:Sports & Pop Culture Memorabilia Auction
LOCATION:3900 S Broadway Ave\, 2W\, Edmond\, OK 73013\, US
DESCRIPTION:DATE & TIME Auction Closes: Wednesday\, September 8th\, Beginn
 ing @ 1:00pm LOCATION & DIRECTIONS Items are located at: 390
 0 S Broadway\, 2W\, Edmond\, OK 73013 SALE INFORMATION Inspecti
 on of items will be held by appointment only on Tuesday\, Sep
 tember 7th. Auction will be held online only. Download the B
 ray Auctions App for iOS and Android Devices or bid online b
 y clicking here. Bidders are required to create an account 
 and input credit card information for authorization. All Pur
 chases Must Be Paid For Before They Can Be Picked Up.  Cash
 \, Checks\, Credit / Debit Cards\, and Wire Transfers Will Be A
 ccepted. (3% Convenience Fee on All Credit /Debit Card Purch
 ases). A 10% Buyer's Premium Will Be In Effect. Removal of I
 tems will be held by scheduled appointment on Thursday\, Sept
 ember 9th & Friday\, September 10th. Winning Bidders will b
 e contacted to choose an appointment on Bray Auctions' sched
 uling system. For Any Questions\, Call (405) 888-5366. For Qu
 estions\, Contact Bray Auctions @ 405.888.5366
URL:https://www.bidbray.com/auctions/detail/bw68224
SEQUENCE:1
END:VEVENT
END:VCALENDAR