BEGIN:VCALENDAR
VERSION:2.0
PRODID:-//ExpressionEngine Easy iCalendar plugin//NONSGML v2.0.1//EN
X-WR-TIMEZONE:America/Chicago
X-WR-CALNAME:Upcoming Auctions
BEGIN:VEVENT
UID:68286
DTSTAMP:20210819T130000
DTSTART:20210819T130000
DTEND:20210826T200000
SUMMARY:Oklahoma Geological Foundation Rocks and Swing FORE Stem Onl
 ine Auction
LOCATION:13313 Pawnee Dr\, Oklahoma City\, OK 73114\, US
DESCRIPTION:The Oklahoma Geological Foundation is excited to present the
  third annual “Rocks and Swing Fore STEM” event August 
 26th\, 2020 at TopGolf of Oklahoma City from 6:00pm to 9:00
 pm. The Foundation is a proud supporter of STEM education th
 roughout Oklahoma with a primary focus on Earth Science prog
 rams. This is being accomplished by providing museum quality
  Rock\, Mineral and Fossil collections and the development of
  a new interactive computer-based instruction system called 
 “Every Day Earth”\, both of which will assist teachers an
 d students in Earth Science education in Oklahoma schools. A
 ll of the proceeds from the “Rocks and Swing Fore STEM” 
 event will be used to help support the Foundation’s effort
 s to assemble and supply materials for teachers of K – 12 
 students in Oklahoma. Other than being a fun and enjoyable e
 vening of food\, drinks\, and golf\, the affair will include si
 lent and live auction venues consisting of high-quality mine
 rals and fossils\, destination packages\, old geological maps\,
  jewelry\, and many other items of interest.
URL:https://www.bidbray.com/auctions/detail/bw68286
SEQUENCE:1
END:VEVENT
END:VCALENDAR