BEGIN:VCALENDAR
VERSION:2.0
PRODID:-//ExpressionEngine Easy iCalendar plugin//NONSGML v2.0.1//EN
X-WR-TIMEZONE:America/Chicago
X-WR-CALNAME:Upcoming Auctions
BEGIN:VEVENT
UID:68711
DTSTAMP:20210828T130000
DTSTART:20210828T130000
DTEND:20210919T130000
SUMMARY:Firearms\, Ammo\, Knives\, Accessories\, & MORE!
LOCATION:3900 S Broadway Ave\, 2W\, Edmond\, OK 73013\, US
DESCRIPTION:DATE & TIME Auction Closes: Sunday\, September 19th\, Beginnin
 g @ 1:00pm LOCATION & DIRECTIONS Items are located at: 3900 
 S Broadway\, 2W\, Edmond\, OK 73013 SALE INFORMATION Inspection
  of items will be held by appointment only on Friday\, Septem
 ber 17th. Auction will be held online only. Download the Bra
 y Auctions App for iOS and Android Devices or bid online by 
 clicking here. Bidders are required to create an account an
 d input credit card information for authorization. All Purch
 ases Must Be Paid For Before They Can Be Picked Up.  Cash\, 
 Checks\, Credit / Debit Cards\, and Wire Transfers Will Be Acc
 epted. (3% Convenience Fee on All Credit /Debit Card Purchas
 es). A 10% Buyer's Premium Will Be In Effect. Removal of Ite
 ms will be held by scheduled appointment on Monday\, Septembe
 r 20th & Tuesday\, September 21st. Winning Bidders will be co
 ntacted to choose an appointment on Bray Auctions' schedulin
 g system. For Any Questions\, Call (405) 888-5366. For Questi
 ons\, Contact Bray Auctions @ 405.888.5366
URL:https://www.bidbray.com/auctions/detail/bw68711
SEQUENCE:1
END:VEVENT
END:VCALENDAR