BEGIN:VCALENDAR
VERSION:2.0
PRODID:-//ExpressionEngine Easy iCalendar plugin//NONSGML v2.0.1//EN
X-WR-TIMEZONE:America/Chicago
X-WR-CALNAME:Upcoming Auctions
BEGIN:VEVENT
UID:70311
DTSTAMP:20211001T130000
DTSTART:20211001T130000
DTEND:20211025T130000
SUMMARY:10924 Shady Oaks Ln\, Guthrie
LOCATION:10924 Shady Oaks Ln\, Guthrie\, OK 73044\, US
DESCRIPTION:DATE & TIME Auction Closes: Monday\, October 25th @ 1:00pm LO
 CATION & DIRECTIONS 10924 Shady Oaks Ln\, Guthrie\, OK 73044 S
 ALE INFORMATION  Open Houses will be held on Sunday\, Octobe
 r 17th and Sunday\, October 24th from 2:00-4:00pm. Auction wi
 ll be held online only. Download the Bray Auctions App for i
 OS and Android Devices or bid online by clicking here. Pros
 pective bidders are required to create an account and submit
  information for approval to bid. Showings by appointment on
 ly. Terms On Real Estate: $5\,000 Deposit / Earnest Money Is 
 Due At The Signing of the Contract\, Within 24 Hours of Aucti
 on Close. A 10% Buyer's Premium Will Be In Effect. For Any Q
 uestions\, Call Barrett Bray @ (405) 888-5366 or Whitey Mason
  @ (405) 630-8670. Property Information
URL:https://www.bidbray.com/auctions/detail/bw70311
SEQUENCE:1
END:VEVENT
END:VCALENDAR