BEGIN:VCALENDAR
VERSION:2.0
PRODID:-//ExpressionEngine Easy iCalendar plugin//NONSGML v2.0.1//EN
X-WR-TIMEZONE:America/Chicago
X-WR-CALNAME:Upcoming Auctions
BEGIN:VEVENT
UID:70703
DTSTAMP:20211008T130000
DTSTART:20211008T130000
DTEND:20211025T130000
SUMMARY:Jimmy's Egg / Grounds for Compassion Restaurant & Coffee Equ
 ipment Auction
LOCATION:1616 N May Ave\, Oklahoma City\, OK 73107\, US
DESCRIPTION:DATE & TIME Auction Closes: Monday\, October 2th\, Beginning @
  1:00pm LOCATION & DIRECTIONS Multiple Locations - Locations
  are Listed on Each Lot SALE INFORMATION Inspection of items
  will be held by appointment only on Friday\, October 22nd. A
 uction will be held online only. Download the Bray Auctions 
 App for iOS and Android Devices or bid online by clicking h
 ere. Bidders are required to create an account and input cre
 dit card information for authorization. All Purchases Must B
 e Paid For Before They Can Be Picked Up.  Cash\, Checks\, Cre
 dit / Debit Cards\, and Wire Transfers Will Be Accepted. (3% 
 Convenience Fee on All Credit /Debit Card Purchases). A 10% 
 Buyer's Premium Will Be In Effect. Removal of Items will be 
 held by pre-scheduled appointment on Tuesday\, October 26th t
 hrough Thursday\, October 28th. Winning Bidders will be conta
 cted to choose an appointment on Bray Auctions' scheduling s
 ystem. For Any Questions\, Call (405) 888-5366.
URL:https://www.bidbray.com/auctions/detail/bw70703
SEQUENCE:1
END:VEVENT
END:VCALENDAR