BEGIN:VCALENDAR
VERSION:2.0
PRODID:-//ExpressionEngine Easy iCalendar plugin//NONSGML v2.0.1//EN
X-WR-TIMEZONE:America/Chicago
X-WR-CALNAME:Upcoming Auctions
BEGIN:VEVENT
UID:71977
DTSTAMP:20211102T130000
DTSTART:20211102T130000
DTEND:20211115T130000
SUMMARY:Large Commercial / Industrial Auction
LOCATION:7000 Crossroads Blvd\, Oklahoma City\, OK 73149\, US
DESCRIPTION:DATE & TIME Auction Closes: Monday\, November 15th\, Beginning
  @ 1:00pm LOCATION & DIRECTIONS 7000 Crossroads Blvd\, Oklaho
 ma City\, OK 73149 SALE INFORMATION Inspection of items will 
 be held by appointment only on Friday\, November 12th. Auctio
 n will be held online only. Download the Bray Auctions App f
 or iOS and Android Devices or bid online by clicking here. 
 Bidders are required to create an account and input credit c
 ard information for authorization. All Purchases Must Be Pai
 d For Before They Can Be Picked Up.  Cash\, Checks\, Credit /
  Debit Cards\, and Wire Transfers Will Be Accepted. (3% Conve
 nience Fee on All Credit /Debit Card Purchases). A 10% Buyer
 's Premium Will Be In Effect. Removal of Items will be held 
 by pre-scheduled appointment on Tuesday\, November 16th throu
 gh Thursday\, November 18th. Winning Bidders will be contacte
 d to choose an appointment on Bray Auctions' scheduling syst
 em. For Any Questions\, Call (405) 888-5366.
URL:https://www.bidbray.com/auctions/detail/bw71977
SEQUENCE:1
END:VEVENT
END:VCALENDAR