BEGIN:VCALENDAR
VERSION:2.0
PRODID:-//ExpressionEngine Easy iCalendar plugin//NONSGML v2.0.1//EN
X-WR-TIMEZONE:America/Chicago
X-WR-CALNAME:Upcoming Auctions
BEGIN:VEVENT
UID:73305
DTSTAMP:20211201T130000
DTSTART:20211201T130000
DTEND:20211227T130000
SUMMARY:Guthrie Commercial RE - Former Guthrie Daily Leader
LOCATION:107 W Harrison Ave\, Guthrie\, OK 73044\, US
DESCRIPTION:DATE & TIME Auction Closes: Monday\, December 27th @ 1:00pm L
 OCATION & DIRECTIONS 107 W Harrison Ave\, Guthrie\, OK SALE IN
 FORMATION  Open Houses will be held on Sunday\, December 19t
 h and Sunday\, December 26th from 2:00-4:00pm. Auction will b
 e held online only. Download the Bray Auctions App for iOS a
 nd Android Devices or bid online by clicking here. Prospect
 ive bidders are required to create an account and submit inf
 ormation for approval to bid. Showings by appointment only. 
 Terms On Real Estate: $5\,000 Deposit / Earnest Money Is Due 
 At The Signing of the Contract\, Within 24 Hours of Auction C
 lose. A 10% Buyer's Premium Will Be In Effect. For Any Quest
 ions\, Call Barrett Bray @ (405) 888-5366 or Whitey Mason @ (
 405) 630-8670. Property Information Up for sale at online au
 ction is the former Guthrie Daily Leader building located at
  107 W Harrison in the heart of scenic and historic downtown
  Guthrie Oklahoma\, the state’s original capitol.  This in
 come producing property consists of retail and warehouse spa
 ce on the first floor with 4 renovated loft apartments above
  for a total of 11\,100 sq ft.  This building was originally
  constructed in 1891 and has undergone major renovation\, inc
 luding a new facade\, flooring\, lighting\, appliances\, plumbin
 g\, electrical\, multiple HVAC units and a new roof!  The new
  owner of this landmark building will have the potential to 
 combine or split the retail/warehouse space below\, with a se
 parate entrance to the 4 loft apartments above as well as a 
 separate entrance to half of the retail and warehouse space 
 below. This online auction is available for bidding now and 
 will begin to close on Dec 27th at 1:00 PM. There will be tw
 o open houses prior to the auction closing on Sunday Dec. 19
 th and Sunday Dec. 26th from 2:00 PM to 4:00 PM.  A 10% Buy
 ers Premium will apply. At the close of the auction a $10\,00
 0 deposit will be required from the successful high bidder w
 hen the contract is signed. The buyer will have up to 45 day
 s to close.  The property is sold “As Is\, Where Is” wit
 hout any contingencies.  Please read below or visit our web
 site for full Terms and Conditions. Call Whitey Mason at 405
 -630-8670 for more information or to schedule a private show
 ing\, or call our office at 405-888-5366. Thank you and good 
 luck bidding!
URL:https://www.bidbray.com/auctions/detail/bw73305
SEQUENCE:1
END:VEVENT
END:VCALENDAR