BEGIN:VCALENDAR
VERSION:2.0
PRODID:-//ExpressionEngine Easy iCalendar plugin//NONSGML v2.0.1//EN
X-WR-TIMEZONE:America/Chicago
X-WR-CALNAME:Upcoming Auctions
BEGIN:VEVENT
UID:73595
DTSTAMP:20211208T180000
DTSTART:20211208T180000
DTEND:20211210T213000
SUMMARY:Oklahoma Chiropractors Association 6th Annual Holiday Gala
LOCATION:7000 NW Grand Blvd\, Oklahoma City\, OK 73116\, US
DESCRIPTION:We are chiropractors because of the chiropractic philosoph
 y.  We believe that the chiropractic profession is a true h
 ealth care profession. We believe\, as it has been proclaimed
  since its inception\, that chiropractic provides the highest
  form of health care without the use of drugs or surger
 y.  We believe that a state chiropractic association should
  defend\, encourage and promote every chiropractor in the st
 ate.
URL:https://www.bidbray.com/auctions/detail/bw73595
SEQUENCE:1
END:VEVENT
END:VCALENDAR