BEGIN:VCALENDAR
VERSION:2.0
PRODID:-//ExpressionEngine Easy iCalendar plugin//NONSGML v2.0.1//EN
X-WR-TIMEZONE:America/Chicago
X-WR-CALNAME:Upcoming Auctions
BEGIN:VEVENT
UID:73617
DTSTAMP:20211210T130000
DTSTART:20211210T130000
DTEND:20220102T160000
SUMMARY:Large Firearm\, Ammo\, & Accessory Auction
LOCATION:3900 S Broadway\, 2W\, Edmond\, OK 73013\, US
DESCRIPTION:DATE & TIME Auction Closes: Sunday\, January 2nd\, Beginning @
  4:00pm LOCATION & DIRECTIONS Items are located at: 3900 S B
 roadway\, 2W\, Edmond\, OK 73013 SALE INFORMATION Inspection of
  items will be held by appointment only on Thursday\, Decembe
 r 30th. Auction will be held online only. Download the Bray 
 Auctions App for iOS and Android Devices or bid online by cl
 icking here. Bidders are required to create an account and 
 input credit card information for authorization. All Purchas
 es Must Be Paid For Before They Can Be Picked Up.  Cash\, Ch
 ecks\, Credit / Debit Cards\, and Wire Transfers Will Be Accep
 ted. (3% Convenience Fee on All Credit /Debit Card Purchases
 ). A 10% Buyer's Premium Will Be In Effect. Removal of Items
  will be held by scheduled appointment on Monday\, January 3r
 d through Wednesday\, January 5th. Winning Bidders will be
  contacted to choose an appointment on Bray Auctions' schedu
 ling system. For Any Questions\, Call (405) 888-5366. For Que
 stions\, Contact Bray Auctions @ 405.888.5366
URL:https://www.bidbray.com/auctions/detail/bw73617
SEQUENCE:1
END:VEVENT
END:VCALENDAR