BEGIN:VCALENDAR
VERSION:2.0
PRODID:-//ExpressionEngine Easy iCalendar plugin//NONSGML v2.0.1//EN
X-WR-TIMEZONE:America/Chicago
X-WR-CALNAME:Upcoming Auctions
BEGIN:VEVENT
UID:74912
DTSTAMP:20220114T160000
DTSTART:20220114T160000
DTEND:20220126T130000
SUMMARY:Large Estate Auction
LOCATION:3900 S Broadway\, 2W\, Edmond\, OK 73013\, US
DESCRIPTION:More Info Coming Soon
URL:https://www.bidbray.com/auctions/detail/bw74912
SEQUENCE:1
END:VEVENT
END:VCALENDAR