BEGIN:VCALENDAR
VERSION:2.0
PRODID:-//ExpressionEngine Easy iCalendar plugin//NONSGML v2.0.1//EN
X-WR-TIMEZONE:America/Chicago
X-WR-CALNAME:Upcoming Auctions
BEGIN:VEVENT
UID:77337
DTSTAMP:20220306T100000
DTSTART:20220306T100000
DTEND:20220316T130000
SUMMARY:Francis Tuttle Equipment Liquidation Auction
LOCATION:12777 N Rockwell Ave\, Oklahoma City\, OK 73142\, US
DESCRIPTION:DATE & TIME Auction Closes: Wednesday\, March 16th\, Beginning
  @ 1:00pm LOCATION & DIRECTIONS Items are located at: Franci
 s Tuttle\, 12777 N Rockwell Ave\, 73142 SALE INFORMATION Inspe
 ction of items will be held by appointment only on Tuesday\, 
 March 15th. Auction will be held online only. Download the B
 ray Auctions App for iOS and Android Devices or bid online b
 y clicking here. Bidders are required to create an account 
 and input credit card information for authorization. All Pur
 chases Must Be Paid For Before They Can Be Picked Up.  Cash
 \, Checks\, Credit / Debit Cards\, and Wire Transfers Will Be A
 ccepted. (3% Convenience Fee on All Credit /Debit Card Purch
 ases). A 10% Buyer's Premium Will Be In Effect. Removal of I
 tems will be held by scheduled appointment on Thursday\, Marc
 h 17th and Friday\, March 18th. Winning Bidders will be conta
 cted to choose an appointment on Bray Auctions' scheduling s
 ystem.
URL:https://www.bidbray.com/auctions/detail/bw77337
SEQUENCE:1
END:VEVENT
END:VCALENDAR