BEGIN:VCALENDAR
VERSION:2.0
PRODID:-//ExpressionEngine Easy iCalendar plugin//NONSGML v2.0.1//EN
X-WR-TIMEZONE:America/Chicago
X-WR-CALNAME:Upcoming Auctions
BEGIN:VEVENT
UID:77367
DTSTAMP:20220307T130000
DTSTART:20220307T130000
DTEND:20220327T170000
SUMMARY:Firearms\, Ammo\, Knives\, & MORE!
LOCATION:3900 S Broadway Ave\, 2W\, Edmond\, OK 73013\, US
DESCRIPTION:More Info Coming Soon!
URL:https://www.bidbray.com/auctions/detail/bw77367
SEQUENCE:1
END:VEVENT
END:VCALENDAR