BEGIN:VCALENDAR
VERSION:2.0
PRODID:-//ExpressionEngine Easy iCalendar plugin//NONSGML v2.0.1//EN
X-WR-TIMEZONE:America/Chicago
X-WR-CALNAME:Upcoming Auctions
BEGIN:VEVENT
UID:78078
DTSTAMP:20220319T120000
DTSTART:20220319T120000
DTEND:20220326T120000
SUMMARY:Brown & Sons Impound Auction
LOCATION:101 S Kickapoo St\, Shawnee\, OK 74801\, US
DESCRIPTION:TERMS & CONDITIONS: All vehicles are sold AS-IS with no wa
 rranties express nor implied\; it is the buyer's responsibili
 ty to inspect and verify information regarding vehicles\; Bro
 wn & Sons Towing and Recovery and Bray Auctions have provid
 ed information to the best of their ability\, but buyers have
  the ultimate responsibility of due diligence. Highest Bidde
 r Wins. The online bidding platform will close at a rate of 
 1 item per minute. If a bid is made within the final 3 minut
 es of any item\, the timer on THAT item will be reset to 3 mi
 nutes. Back up bidders and others will have the opportunity 
 to bid again on that item. An item does not close or sell un
 til the final 3 minutes elapse with no further bids. All sal
 es are final. It is the bidder's responsibility to do due di
 ligence on all items purchased. Any bidder that wins an item
  and does not pay will have their bidding credentials revoke
 d and will NEVER be permitted to bid again. All items must
  be paid for before they are removed. ALL items must be paid
  for and removed on the Monday through Friday following the 
 auction from 8:00am to 5:00pm. Any vehicles still not picked
  up after 1 week will be subject to a $5 per day storage fee
 . Payments will be made at Brown & Sons Towing and Recovery.
 . If you have questions about vehicles\, please call Brown & 
 Sons at 405-273-0470. If you have questions about bidding\, 
 please call Bray Auctions at 405-888-5366. Good luck!
URL:https://www.bidbray.com/auctions/detail/bw78078
SEQUENCE:1
END:VEVENT
END:VCALENDAR