BEGIN:VCALENDAR
VERSION:2.0
PRODID:-//ExpressionEngine Easy iCalendar plugin//NONSGML v2.0.1//EN
X-WR-TIMEZONE:America/Chicago
X-WR-CALNAME:Upcoming Auctions
BEGIN:VEVENT
UID:79798
DTSTAMP:20220418T130000
DTSTART:20220418T130000
DTEND:20220426T130000
SUMMARY:Jimmy's Egg Restaurant Equipment Auction
LOCATION:2539 W Main St\, Norman\, OK 73069\, US
DESCRIPTION:DATE & TIME Auction Closes: Tuesday\, April 26th\, Beginning @
  1:00pm LOCATION & DIRECTIONS Jimmy's Egg\, 2539 W Main St\, N
 orman\, OK 73069 SALE INFORMATION Inspection of items will be
  held by appointment only on Monday\, April 25th. Auction wi
 ll be held online only. Download the Bray Auctions App for i
 OS and Android Devices or bid online by clicking here. Bidd
 ers are required to create an account and input credit card 
 information for authorization. All Purchases Must Be Paid Fo
 r Before They Can Be Picked Up.  Cash\, Checks\, Credit / Deb
 it Cards\, and Wire Transfers Will Be Accepted. (3% Convenien
 ce Fee on All Credit /Debit Card Purchases). A 10% Buyer's P
 remium Will Be In Effect. Removal of Items will be held by p
 re-scheduled appointment on Wednesday\, April 27th through Fr
 iday\, April 30th. Winning Bidders will be contacted to choos
 e an appointment on Bray Auctions' scheduling system. For An
 y Questions\, Call (405) 888-5366.
URL:https://www.bidbray.com/auctions/detail/bw79798
SEQUENCE:1
END:VEVENT
END:VCALENDAR