BEGIN:VCALENDAR
VERSION:2.0
PRODID:-//ExpressionEngine Easy iCalendar plugin//NONSGML v2.0.1//EN
X-WR-TIMEZONE:America/Chicago
X-WR-CALNAME:Upcoming Auctions
BEGIN:VEVENT
UID:79877
DTSTAMP:20220421T130000
DTSTART:20220421T130000
DTEND:20220423T184500
SUMMARY:A Starlight Soiree - JSL MWC 2022
LOCATION:1808 Hudiburg Dr\, Midwest City\, OK 73110\, US
DESCRIPTION:Our annual Ways and Means Gala is eastern Oklahoma County’
 s premier fundraiser and includes dinner\, live and silent au
 ction items\, dessert auction\, and after party. Each year\, th
 e Ways and Means Gala raises thousands of dollars to provide
  college scholarships and to reinvest into local eastern Okl
 ahoma County charities. Please direct questions to: Kim Stev
 ens: 405-496-8664 or Katelynn Henderson: (405) 740-4379
URL:https://www.bidbray.com/auctions/detail/bw79877
SEQUENCE:1
END:VEVENT
END:VCALENDAR