BEGIN:VCALENDAR
VERSION:2.0
PRODID:-//ExpressionEngine Easy iCalendar plugin//NONSGML v2.0.1//EN
X-WR-TIMEZONE:America/Chicago
X-WR-CALNAME:Upcoming Auctions
BEGIN:VEVENT
UID:81852
DTSTAMP:20220523T130000
DTSTART:20220523T130000
DTEND:20220530T130000
SUMMARY:Stars Pizza Cafe Restaurant Equipment
LOCATION:2124 NW 39th St\, Oklahoma City\, OK 73112\, US
DESCRIPTION:DATE & TIME Auction Closes: Monday\, May 30th\, Beginning @ 1:
 00pm LOCATION & DIRECTIONS 2124 NW 39th St\, Oklahoma City\, O
 K 73112   SALE INFORMATION Inspection of items will be held
  by appointment only on Friday\, May 27th. Auction will be he
 ld online only. Download the Bray Auctions App for iOS and A
 ndroid Devices or bid online by clicking here. Bidders are 
 required to create an account and input credit card informat
 ion for authorization. All Purchases Must Be Paid For Before
  They Can Be Picked Up.  Cash\, Checks\, Credit / Debit Cards
 \, and Wire Transfers Will Be Accepted. (3% Convenience Fee o
 n All Credit /Debit Card Purchases). A 10% Buyer's Premium W
 ill Be In Effect. Removal of Items will be held by pre-sched
 uled appointment on Tuesday\, May 31st through Thursday\, June
  3rd. Winning Bidders will be contacted to choose an appoin
 tment on Bray Auctions' scheduling system. For Any Questions
 \, Call (405) 888-5366.
URL:https://www.bidbray.com/auctions/detail/bw81852
SEQUENCE:1
END:VEVENT
END:VCALENDAR