BEGIN:VCALENDAR
VERSION:2.0
PRODID:-//ExpressionEngine Easy iCalendar plugin//NONSGML v2.0.1//EN
X-WR-TIMEZONE:America/Chicago
X-WR-CALNAME:Upcoming Auctions
BEGIN:VEVENT
UID:82639
DTSTAMP:20220608T130000
DTSTART:20220608T130000
DTEND:20220624T130000
SUMMARY:Doughty Estate #1 - Collectibles\, Antiques\, Petroliana\, and 
 MORE!!! #1
LOCATION:3900 S Broadway\, 2W\, Edmond\, OK 73013\, US
DESCRIPTION:More Info Coming Soon!
URL:https://www.bidbray.com/auctions/detail/bw82639
SEQUENCE:1
END:VEVENT
END:VCALENDAR