BEGIN:VCALENDAR
VERSION:2.0
PRODID:-//ExpressionEngine Easy iCalendar plugin//NONSGML v2.0.1//EN
X-WR-TIMEZONE:America/Chicago
X-WR-CALNAME:Upcoming Auctions
BEGIN:VEVENT
UID:83882
DTSTAMP:20220630T130000
DTSTART:20220630T130000
DTEND:20220715T130000
SUMMARY:Doughty Estate #2 - Antiques\, Collectibles\, & Memorabilia Au
 ction!
LOCATION:1001 N Miller Ave\, Oklahoma City\, OK 73107\, US
DESCRIPTION:DATE & TIME Auction Closes: Friday\, July 15th\, 2022 Beginni
 ng @ 1:00pm LOCATION & DIRECTIONS Items are Located at 3900 
 S Broadway\, 2W\, Edmond\, OK 73013 SALE INFORMATION Inspection
  of items will be held by appointment only on Wednesday\, Jul
 y 13th and Thursday\, July 14th. Auction will be held online 
 only. Download the Bray Auctions App for iOS and Android Dev
 ices or bid online by clicking here. Bidders are required t
 o create an account and input credit card information for au
 thorization. All Purchases Must Be Paid For Before They Can 
 Be Picked Up.  Cash\, Checks\, Credit / Debit Cards\, and Wire
  Transfers Will Be Accepted. (3% Convenience Fee on All Cred
 it /Debit Card Purchases). A 10% Buyer's Premium Will Be In 
 Effect. Removal of Items will be held by pre-scheduled appoi
 ntment on Monday\, July 18th through Wednesday\, July 20th. Wi
 nning Bidders will be contacted to choose an appointment on 
 Bray Auctions' scheduling system. For Any Questions\, Call (4
 05) 888-5366.
URL:https://www.bidbray.com/auctions/detail/bw83882
SEQUENCE:1
END:VEVENT
END:VCALENDAR